BEGIN:VCALENDAR
VERSION:2.0
PRODID:-//wp-events-plugin.com//7.2.3.1//EN
BEGIN:VEVENT
UID:5@filmtheater-edenkoben.de
DTSTART:20240705T190000Z
DTEND:20240705T210000Z
DTSTAMP:20240630T114449Z
URL:https://filmtheater-edenkoben.de/programm/after-work-kino-am-freitag-3
 /
SUMMARY:Fisherman's Friend. Vom Kutter in die Charts
DESCRIPTION:After-Work-Kino\nFisherman's Friend. Vom Kutter in die Charts\n
 &nbsp\;\n\nGenre: Komödie\n\nJahr: 2019\n\nLand: GB\n\nDarsteller: Daniel
  Mays\, James Purefoy\, David Hayman\, Dave Johns\, Sam Swainsbury\n\n&nbs
 p\;\n\nHandlung:\n\n"Fast zu schön\, aber tatsächlich wahr! Der charman
 te Feel-Good-Kinohit FISHERMAN’S FRIENDS aus England  basiert auf der 
 sensationellen Erfolgsgeschichte des gleichnamigen Shanty-Chors: Die singe
 nden Seebären stürmten 2010 die britischen Charts und wurden zu Kultstar
 s. Vor der Kulisse der romantisch-rauen Küste Cornwalls erzählt der etwa
 s andere Heimatfilm aber vor allem von Zusammenhalt\, wahrer Freundschaft 
 und dem Mut\, neu anzufangen.\nDas Junggesellen-Wochenende im idyllischen 
 Cornwall ist ein Reinfall: absolut nichts los hier. Musikmanager Danny und
  seine Kollegen aus London fallen in dem beschaulichen Fischerdorf Port Is
 aac peinlich auf – erst recht\, als die ach so coolen Großstädter beim
  Stand-up-Paddling aus dem Meer gezogen werden müssen. Die freiwilligen S
 eenotretter um Fischer Jim sehen Danny und seine Jungs überraschend schne
 ll wieder: Die kauzigen Seemänner treten als Chor Fisherman's Friends am 
 Hafen auf und schmettern Shantys. Prompt wird Danny beauftragt\, die Hobby
 sänger unter Vertrag zu nehmen. Dummerweise ist ihm nicht klar\, dass sei
 ne neue Mission bloß ein Scherz ist. Und so quartiert sich Danny im Bed a
 nd Breakfast von Jims attraktiver Tochter Alwyn ein und heftet sich an die
  Gummistiefel der Fishermen. Das Werben um die 10 kornischen Fischer wird 
 zu einem Kampf um den Respekt der Männer\, die Familie\, Freundschaft und
  die Gemeinschaft über Ruhm und Reichtum stellen. Während Danny immer ti
 efer in die traditionelle Lebensweise der Fischerfreunde gezogen wird\, st
 ellt sich ihm die Frage\, was Erfolg im Leben wirklich bedeutet."\nQuelle:
  splendid Film\n\n&nbsp\;\n\n&nbsp\;\n\nTrailer:\n\n\n\nQuelle: splendid F
 ilm\n\n&nbsp\;\n\n&nbsp\;\nKartenreservierung\n[wpforms id="624"]\n\nSiehe
  auch: Informationen zur Datenschutzerklärung bei Kartenreservierung.\n\n
 &nbsp\;
ATTACH;FMTTYPE=image/jpeg:https://filmtheater-edenkoben.de/wp-content/uplo
 ads/2024/04/freitag_fishermansfriend.jpg
CATEGORIES:After-Work-Kino
END:VEVENT
END:VCALENDAR