BEGIN:VCALENDAR
VERSION:2.0
PRODID:-//wp-events-plugin.com//7.2.3.1//EN
BEGIN:VEVENT
UID:6@filmtheater-edenkoben.de
DTSTART:20240706T190000Z
DTEND:20240706T210000Z
DTSTAMP:20240630T114528Z
URL:https://filmtheater-edenkoben.de/programm/kulturkino-am-samstag-2/
SUMMARY:Der Fuchs
DESCRIPTION:Kulturkino\nDer Fuchs\n&nbsp\;\n\n\n\n\n&nbsp\;\n\nHandlung:\n\
 n"Österreich\, Mitte der 1920er Jahre: Aus großer Not heraus übergibt d
 ie Bergbauernfamilie Streitberger ihren jüngsten Sohn in die Obhut eines 
 Großbauern. Auch als Franz (SIMON MORZÉ) die Knechtschaft mit Erreichen 
 der Volljährigkeit aufkündigen darf\, kann er dem Vater (KARL MARKOVICS)
  nicht verzeihen. Auf der Suche nach Arbeit schließt er sich dem Bundeshe
 er an. Unter seinen geselligen Soldatenkameraden bleibt der sensible\, wor
 tkarge Franz stets ein wunderlicher Außenseiter. Als die Kompanie 1940 de
 n Angriff auf Frankreich starten soll\, findet er im Wald einen verletzten
  Fuchswelpen. Kurzerhand beschließt Franz\, sich des verlassenen Tieres a
 nzunehmen und es gesund zu pflegen. Angetrieben durch die Zuneigung zu sei
 nem Fuchs\, tritt er als Motorradkurier die gefährliche Reise an die Fron
 t an.\n\nNachdem er mit seinem vielfach prämierten Regiedebüt DIE BESTE 
 ALLER WELTEN bereits seiner Mutter ein filmisches Denkmal gesetzt hatte\, 
 erzählt Adrian Goiginger nun mit DER FUCHS aus dem Leben seines Urgroßva
 ters im Zweiten Weltkrieg. Mit der zu Herz gehenden Geschichte des Franz S
 treitberger\, der in seinem Fuchs einen wahren Freund findet\, eröffnet d
 er Regisseur eine neue Perspektive auf diese von Angst und Entbehrung gepr
 ägte Zeit. Nachwuchsstar Simon Morzé (DER TRAFIKANT) wächst in der Haup
 trolle über sich selbst hinaus: Eindringlich vermittelt er die tiefe Zerr
 issenheit und Sehnsucht von Franz. An seiner Seite sieht man u. a. Karl Ma
 rkovics (DIE FÄLSCHER) und Alexander Beyer (PERSISCHSTUNDEN)."\n\n\n\n\nQ
 uelle: Alamode Film\n\n&nbsp\;\n\nPädagogisches Begleitmaterial für Schu
 len: hier (Quelle: Alamode Film)\n\n&nbsp\;\n\nTrailer:\n\n\n© Alamode Fi
 lm\n\n&nbsp\;\n\n&nbsp\;\nKartenreservierung\n[wpforms id="624"]\n\nSiehe 
 auch: Informationen zur Datenschutzerklärung bei Kartenreservierung.
ATTACH;FMTTYPE=image/jpeg:https://filmtheater-edenkoben.de/wp-content/uplo
 ads/2024/05/samstag_derfuchs.jpg
CATEGORIES:Kulturkino
END:VEVENT
END:VCALENDAR